BEGIN:VCALENDAR
VERSION:2.0
PRODID:-//Plone.org//NONSGML plone.app.event//EN
X-WR-TIMEZONE:Europe/Madrid
BEGIN:VEVENT
SUMMARY:Futbol 7 Pre Benjamí C
DTSTART;TZID=Europe/Madrid;VALUE=DATE-TIME:20071215T090000
DTEND;TZID=Europe/Madrid;VALUE=DATE-TIME:20071215T100000
DTSTAMP;VALUE=DATE-TIME:20260422T174541Z
UID:cd28a4a46a4b31fbf5e5e4c109b5de5c
CREATED;VALUE=DATE-TIME:20071215T000000Z
CATEGORIES:Esports
LOCATION:Camp municipal d'Esports
ORGANIZER:Escola de Llavaneres CF
DESCRIPTION:Escola de Llavaneres CF-Susanenc CF
URL:https://ajllavaneres.cat/document.php?id=939
END:VEVENT
END:VCALENDAR