BEGIN:VCALENDAR
VERSION:2.0
PRODID:-//Plone.org//NONSGML plone.app.event//EN
X-WR-TIMEZONE:Europe/Madrid
BEGIN:VEVENT
SUMMARY:Futbol Infantil B
DTSTART;TZID=Europe/Madrid;VALUE=DATE-TIME:20071216T100000
DTEND;TZID=Europe/Madrid;VALUE=DATE-TIME:20071216T110000
DTSTAMP;VALUE=DATE-TIME:20260422T193232Z
UID:1ad2316e0f8e4842cdbbc36ff41f0242
CREATED;VALUE=DATE-TIME:20071216T000000Z
CATEGORIES:Esports
LOCATION:Camp municipal d'Esports
ORGANIZER:Escola de Llavaneres CF
DESCRIPTION:Escola de Llavaneres CF-Palafolls CD
URL:https://ajllavaneres.cat/document.php?id=941
END:VEVENT
END:VCALENDAR