BEGIN:VCALENDAR
VERSION:2.0
PRODID:-//Plone.org//NONSGML plone.app.event//EN
X-WR-TIMEZONE:Europe/Madrid
BEGIN:VEVENT
SUMMARY:Futbol Infantil A
DTSTART;TZID=Europe/Madrid;VALUE=DATE-TIME:20071215T103000
DTEND;TZID=Europe/Madrid;VALUE=DATE-TIME:20071215T113000
DTSTAMP;VALUE=DATE-TIME:20260419T235227Z
UID:d121532c6f0a9aba5c7bf158c42c421f
CREATED;VALUE=DATE-TIME:20071215T000000Z
CATEGORIES:Esports
LOCATION:Camp municipal d'Esports
ORGANIZER:Escola de Llavaneres CF
DESCRIPTION:Escola de Llavaneres CF-Vilassar de Mar UE
URL:https://ajllavaneres.cat/document.php?id=942
END:VEVENT
END:VCALENDAR