BEGIN:VCALENDAR
VERSION:2.0
PRODID:-//Plone.org//NONSGML plone.app.event//EN
X-WR-TIMEZONE:Europe/Madrid
BEGIN:VEVENT
SUMMARY:Futbol 1r Equip
DTSTART;TZID=Europe/Madrid;VALUE=DATE-TIME:20071216T121500
DTEND;TZID=Europe/Madrid;VALUE=DATE-TIME:20071216T131500
DTSTAMP;VALUE=DATE-TIME:20260420T100340Z
UID:34cc498f0574716266a28a7c44d24071
CREATED;VALUE=DATE-TIME:20071216T000000Z
CATEGORIES:Esports
LOCATION:Camp municipal d'Esports
ORGANIZER:CE Llavaneres
DESCRIPTION:CE Llavaneres-Cabrera UE
URL:https://ajllavaneres.cat/document.php?id=944
END:VEVENT
END:VCALENDAR