BEGIN:VCALENDAR
VERSION:2.0
PRODID:-//Plone.org//NONSGML plone.app.event//EN
X-WR-TIMEZONE:Europe/Madrid
BEGIN:VEVENT
SUMMARY:Bàsquet Mini Masculí
DTSTART;TZID=Europe/Madrid;VALUE=DATE-TIME:20071214T184500
DTEND;TZID=Europe/Madrid;VALUE=DATE-TIME:20071214T194500
DTSTAMP;VALUE=DATE-TIME:20260419T235113Z
UID:867e8d1d1680ea8f2ecb09c30d3d0fb3
CREATED;VALUE=DATE-TIME:20071214T000000Z
CATEGORIES:Esports
LOCATION:Pavelló municipal
ORGANIZER:CE Serena Mar
DESCRIPTION:CE Serena Mar-UE Mataró C
URL:https://ajllavaneres.cat/document.php?id=945
END:VEVENT
END:VCALENDAR