BEGIN:VCALENDAR
VERSION:2.0
PRODID:-//Plone.org//NONSGML plone.app.event//EN
X-WR-TIMEZONE:Europe/Madrid
BEGIN:VEVENT
SUMMARY:Concert de jazz
DTSTART;TZID=Europe/Madrid;VALUE=DATE-TIME:20150802T200000
DTEND;TZID=Europe/Madrid;VALUE=DATE-TIME:20150802T210000
DTSTAMP;VALUE=DATE-TIME:20260419T232904Z
UID:387f3520325d3ee78a6585f2ed00b73c
CREATED;VALUE=DATE-TIME:20150802T000000Z
LOCATION:Piscina municipal
COMMENT:Preu: Entrada lliura
DESCRIPTION:Amb Arreu Band
URL:https://ajllavaneres.cat/document.php?id=9463
END:VEVENT
END:VCALENDAR