BEGIN:VCALENDAR
VERSION:2.0
PRODID:-//Plone.org//NONSGML plone.app.event//EN
X-WR-TIMEZONE:Europe/Madrid
BEGIN:VEVENT
SUMMARY:Handbol Infantil
DTSTART;TZID=Europe/Madrid;VALUE=DATE-TIME:20071215T090000
DTEND;TZID=Europe/Madrid;VALUE=DATE-TIME:20071215T100000
DTSTAMP;VALUE=DATE-TIME:20260419T225546Z
UID:32f8839491c3637e1ba84c7fa1434310
CREATED;VALUE=DATE-TIME:20071215T000000Z
CATEGORIES:Esports
LOCATION:Pavelló municipal
ORGANIZER:CE Serena Mar
DESCRIPTION:CE Serena Mar- IES Sa Torras
URL:https://ajllavaneres.cat/document.php?id=950
END:VEVENT
END:VCALENDAR