BEGIN:VCALENDAR
VERSION:2.0
PRODID:-//Plone.org//NONSGML plone.app.event//EN
X-WR-TIMEZONE:Europe/Madrid
BEGIN:VEVENT
SUMMARY:Futbol Sala Aleví
DTSTART;TZID=Europe/Madrid;VALUE=DATE-TIME:20071215T113000
DTEND;TZID=Europe/Madrid;VALUE=DATE-TIME:20071215T123000
DTSTAMP;VALUE=DATE-TIME:20260420T075036Z
UID:1023bb6b4e8656c2a87e086a9b411547
CREATED;VALUE=DATE-TIME:20071215T000000Z
CATEGORIES:Esports
LOCATION:Pavelló municipal
ORGANIZER:CE Serena Mar
DESCRIPTION:CE Serena Mar- La Lió
URL:https://ajllavaneres.cat/document.php?id=951
END:VEVENT
END:VCALENDAR