BEGIN:VCALENDAR
VERSION:2.0
PRODID:-//Plone.org//NONSGML plone.app.event//EN
X-WR-TIMEZONE:Europe/Madrid
BEGIN:VEVENT
SUMMARY:III Festa del Motor
DTSTART;TZID=Europe/Madrid;VALUE=DATE-TIME:20071216T103000
DTEND;TZID=Europe/Madrid;VALUE=DATE-TIME:20071216T113000
DTSTAMP;VALUE=DATE-TIME:20260420T070448Z
UID:9387d09b2b687f3de1e88d2e1980a4e0
CREATED;VALUE=DATE-TIME:20071216T000000Z
CATEGORIES:Esports
LOCATION:Passeig de Jaume Brutau
ORGANIZER:Adventures Llavaneres
DESCRIPTION:Presentació dels llavanerencs participants al Dakar 2008
URL:https://ajllavaneres.cat/document.php?id=955
END:VEVENT
END:VCALENDAR