BEGIN:VCALENDAR
VERSION:2.0
PRODID:-//Plone.org//NONSGML plone.app.event//EN
X-WR-TIMEZONE:Europe/Madrid
BEGIN:VEVENT
SUMMARY:Sortida a Bilbao per l'Euskadi-Catalunya
DTSTART;TZID=Europe/Madrid;VALUE=DATE-TIME:20071229T080000
DTEND;TZID=Europe/Madrid;VALUE=DATE-TIME:20071229T090000
DTSTAMP;VALUE=DATE-TIME:20260419T143107Z
UID:18246be698090a0fc1fa9ef40d09a4d3
CREATED;VALUE=DATE-TIME:20071229T000000Z
LOCATION:Passeig de Jaume Brutau
COMMENT:Preu: Cal inscriure's prèviament a Ca l'Alfaro
URL:https://ajllavaneres.cat/document.php?id=956
END:VEVENT
END:VCALENDAR