BEGIN:VCALENDAR
VERSION:2.0
PRODID:-//Plone.org//NONSGML plone.app.event//EN
X-WR-TIMEZONE:Europe/Madrid
BEGIN:VEVENT
SUMMARY:Vine a donar sang
DTSTART;TZID=Europe/Madrid;VALUE=DATE-TIME:20071223T100000
DTEND;TZID=Europe/Madrid;VALUE=DATE-TIME:20071223T110000
DTSTAMP;VALUE=DATE-TIME:20260419T234338Z
UID:eff631c8704c9ad9e2e6d5af3d68b479
CREATED;VALUE=DATE-TIME:20071223T000000Z
LOCATION:CAP Sant Andreu de Llavaneres
ORGANIZER:Banc de Sang i Teixits - Departament de Salut de la Generalitat i Regidoria de Sanitat
DESCRIPTION:Amb una vegada no n'hi prou
URL:https://ajllavaneres.cat/document.php?id=962
END:VEVENT
END:VCALENDAR