BEGIN:VCALENDAR
VERSION:2.0
PRODID:-//Plone.org//NONSGML plone.app.event//EN
X-WR-TIMEZONE:Europe/Madrid
BEGIN:VEVENT
SUMMARY:Taller sobre nutrició saludable
DTSTART;TZID=Europe/Madrid;VALUE=DATE-TIME:20080116T093000
DTEND;TZID=Europe/Madrid;VALUE=DATE-TIME:20080116T103000
DTSTAMP;VALUE=DATE-TIME:20260419T223744Z
UID:30b6d1306a327d0587a160c9274d5e2e
CREATED;VALUE=DATE-TIME:20080116T000000Z
LOCATION:CEIP Sant Andreu, c/ Contrabandistes s/n
ORGANIZER:Regidoria de Sanitat i EduSalut
COMMENT:Preu: Gratuït
Durada: Dos grups. El primer de 9.30 a 11.00 h, i el segon, d'11.30 a 13.00 hores.
URL:https://ajllavaneres.cat/document.php?id=963
END:VEVENT
END:VCALENDAR