BEGIN:VCALENDAR
VERSION:2.0
PRODID:-//Plone.org//NONSGML plone.app.event//EN
X-WR-TIMEZONE:Europe/Madrid
BEGIN:VEVENT
SUMMARY:Taller: Nutrició Saludable
DTSTART;TZID=Europe/Madrid;VALUE=DATE-TIME:20080123T090000
DTEND;TZID=Europe/Madrid;VALUE=DATE-TIME:20080123T100000
DTSTAMP;VALUE=DATE-TIME:20260419T225026Z
UID:79989502825884e99333a759965671c8
CREATED;VALUE=DATE-TIME:20080123T000000Z
LOCATION:CEIP Serena Vall. Pg. de la Riera, 25
ORGANIZER:Regidoria de Sanitat + Entitat EduSalut
COMMENT:Preu: Gratuït
Durada: Dos grups: de 9.30 a 11.00 hores i de 11.30 a 13.00 hores
URL:https://ajllavaneres.cat/document.php?id=964
END:VEVENT
END:VCALENDAR