BEGIN:VCALENDAR
VERSION:2.0
PRODID:-//Plone.org//NONSGML plone.app.event//EN
X-WR-TIMEZONE:Europe/Madrid
BEGIN:VEVENT
SUMMARY:Bàsquet Mini femení
DTSTART;TZID=Europe/Madrid;VALUE=DATE-TIME:20071221T184500
DTEND;TZID=Europe/Madrid;VALUE=DATE-TIME:20071221T194500
DTSTAMP;VALUE=DATE-TIME:20260419T212343Z
UID:b8cbd82a70e525681048ae01639e1e82
CREATED;VALUE=DATE-TIME:20071221T000000Z
CATEGORIES:Esports
LOCATION:Pavelló municipal
ORGANIZER:CE Serena Mar
DESCRIPTION:CE Serena Mar-UE Claret B
URL:https://ajllavaneres.cat/document.php?id=965
END:VEVENT
END:VCALENDAR