BEGIN:VCALENDAR
VERSION:2.0
PRODID:-//Plone.org//NONSGML plone.app.event//EN
X-WR-TIMEZONE:Europe/Madrid
BEGIN:VEVENT
SUMMARY:Bàsquet Pre mini masculí B
DTSTART;TZID=Europe/Madrid;VALUE=DATE-TIME:20071222T090000
DTEND;TZID=Europe/Madrid;VALUE=DATE-TIME:20071222T100000
DTSTAMP;VALUE=DATE-TIME:20260419T235324Z
UID:d6799d5b9943ef1e10a6ad767885c1c7
CREATED;VALUE=DATE-TIME:20071222T000000Z
CATEGORIES:Esports
LOCATION:Pavelló municipal
ORGANIZER:CB Llavaneres
DESCRIPTION:CB Llavaneres-CB Canet Mixte
URL:https://ajllavaneres.cat/document.php?id=966
END:VEVENT
END:VCALENDAR