BEGIN:VCALENDAR
VERSION:2.0
PRODID:-//Plone.org//NONSGML plone.app.event//EN
X-WR-TIMEZONE:Europe/Madrid
BEGIN:VEVENT
SUMMARY:Castaween 2015
DTSTART;TZID=Europe/Madrid;VALUE=DATE-TIME:20151031T180000
DTEND;TZID=Europe/Madrid;VALUE=DATE-TIME:20151031T190000
DTSTAMP;VALUE=DATE-TIME:20260419T165600Z
UID:b95888b8c75075cc0b2367496e8348be
CREATED;VALUE=DATE-TIME:20151031T000000Z
LOCATION:Carrer de Munt
ORGANIZER:Comerciants del carrer de Munt
DESCRIPTION:Festa de la Castanyada i de Halloween al carrer de Munt
URL:https://ajllavaneres.cat/document.php?id=9661
END:VEVENT
END:VCALENDAR