BEGIN:VCALENDAR
VERSION:2.0
PRODID:-//Plone.org//NONSGML plone.app.event//EN
X-WR-TIMEZONE:Europe/Madrid
BEGIN:VEVENT
SUMMARY:Bàsquet Pre mini femení
DTSTART;TZID=Europe/Madrid;VALUE=DATE-TIME:20071222T101500
DTEND;TZID=Europe/Madrid;VALUE=DATE-TIME:20071222T111500
DTSTAMP;VALUE=DATE-TIME:20260420T070638Z
UID:46b3cbbdbe491743d42f8fcfa3f5cf07
CREATED;VALUE=DATE-TIME:20071222T000000Z
CATEGORIES:Esports
LOCATION:Pavelló municipal
ORGANIZER:CB Llavaneres
DESCRIPTION:CB Llavaneres-CB Vilassar de Mar
URL:https://ajllavaneres.cat/document.php?id=967
END:VEVENT
END:VCALENDAR