BEGIN:VCALENDAR
VERSION:2.0
PRODID:-//Plone.org//NONSGML plone.app.event//EN
X-WR-TIMEZONE:Europe/Madrid
BEGIN:VEVENT
SUMMARY:Futbol 7 Pre benjamí A
DTSTART;TZID=Europe/Madrid;VALUE=DATE-TIME:20071222T100000
DTEND;TZID=Europe/Madrid;VALUE=DATE-TIME:20071222T110000
DTSTAMP;VALUE=DATE-TIME:20260419T170544Z
UID:80631e88425863911ae903b3e4f15644
CREATED;VALUE=DATE-TIME:20071222T000000Z
CATEGORIES:Esports
LOCATION:Camp municipal d'Esports Camp 2
ORGANIZER:Escola de Llavaneres CF
DESCRIPTION:Escola de Llavaneres CF-Pineda de Mar CF
URL:https://ajllavaneres.cat/document.php?id=976
END:VEVENT
END:VCALENDAR