BEGIN:VCALENDAR
VERSION:2.0
PRODID:-//Plone.org//NONSGML plone.app.event//EN
X-WR-TIMEZONE:Europe/Madrid
BEGIN:VEVENT
SUMMARY:22è Torneig de Golf Sant Andreu
DTSTART;TZID=Europe/Madrid;VALUE=DATE-TIME:20151130T090000
DTEND;TZID=Europe/Madrid;VALUE=DATE-TIME:20151130T100000
DTSTAMP;VALUE=DATE-TIME:20260420T023811Z
UID:1d7b2043426debb256900cd186e51afd
CREATED;VALUE=DATE-TIME:20151130T000000Z
CATEGORIES:Esports
LOCATION:Club de Golf Llavaneras
ORGANIZER:Club de Golf Llavaneras
DESCRIPTION:Modalitat stableford
URL:https://ajllavaneres.cat/document.php?id=9767
END:VEVENT
END:VCALENDAR