BEGIN:VCALENDAR
VERSION:2.0
PRODID:-//Plone.org//NONSGML plone.app.event//EN
X-WR-TIMEZONE:Europe/Madrid
BEGIN:VEVENT
SUMMARY:Acte de felicitació dels Andreus i les Andrees
DTSTART;TZID=Europe/Madrid;VALUE=DATE-TIME:20151130T124500
DTEND;TZID=Europe/Madrid;VALUE=DATE-TIME:20151130T134500
DTSTAMP;VALUE=DATE-TIME:20260420T023442Z
UID:2a1aab482086a863c742ecffbef2ad8f
CREATED;VALUE=DATE-TIME:20151130T000000Z
CATEGORIES:Festa
LOCATION:Sala de plens de l'Ajuntament
URL:https://ajllavaneres.cat/document.php?id=9770
END:VEVENT
END:VCALENDAR