BEGIN:VCALENDAR
VERSION:2.0
PRODID:-//Plone.org//NONSGML plone.app.event//EN
X-WR-TIMEZONE:Europe/Madrid
BEGIN:VEVENT
SUMMARY:Futbol 2n equip
DTSTART;TZID=Europe/Madrid;VALUE=DATE-TIME:20071223T121500
DTEND;TZID=Europe/Madrid;VALUE=DATE-TIME:20071223T131500
DTSTAMP;VALUE=DATE-TIME:20260422T175530Z
UID:b0ac2bbc0a2eff51a346a08c71e23e7e
CREATED;VALUE=DATE-TIME:20071223T000000Z
CATEGORIES:Esports
LOCATION:Camp municipal d'Esports
ORGANIZER:CE Llavaneres
DESCRIPTION:CE Llavaneres-l'Empenta, Associació esportiva
URL:https://ajllavaneres.cat/document.php?id=980
END:VEVENT
END:VCALENDAR