BEGIN:VCALENDAR
VERSION:2.0
PRODID:-//Plone.org//NONSGML plone.app.event//EN
X-WR-TIMEZONE:Europe/Madrid
BEGIN:VEVENT
SUMMARY:II Temporada d'òpera al Casal
DTSTART;TZID=Europe/Madrid;VALUE=DATE-TIME:20080113T173000
DTEND;TZID=Europe/Madrid;VALUE=DATE-TIME:20080113T183000
DTSTAMP;VALUE=DATE-TIME:20260419T201929Z
UID:c337d739845d74126f157ed7ea043202
CREATED;VALUE=DATE-TIME:20080113T000000Z
CATEGORIES:Música
LOCATION:Sala de Lectura i audiovisuals de l'entitat
ORGANIZER:Secció de Cultura
COMMENT:Preu: 3 euros
DESCRIPTION:'Rigoletto' de Giusseppe Verdi
URL:https://ajllavaneres.cat/document.php?id=999
END:VEVENT
END:VCALENDAR